BEGIN:VCALENDAR
VERSION:2.0
PRODID:-//AMAL - ECPv6.15.20//NONSGML v1.0//EN
CALSCALE:GREGORIAN
METHOD:PUBLISH
X-ORIGINAL-URL:https://amal.co.za
X-WR-CALDESC:Events for AMAL
REFRESH-INTERVAL;VALUE=DURATION:PT1H
X-Robots-Tag:noindex
X-PUBLISHED-TTL:PT1H
BEGIN:VTIMEZONE
TZID:Africa/Johannesburg
BEGIN:STANDARD
TZOFFSETFROM:+0200
TZOFFSETTO:+0200
TZNAME:SAST
DTSTART:20240101T000000
END:STANDARD
END:VTIMEZONE
BEGIN:VEVENT
DTSTART;TZID=Africa/Johannesburg:20251025T143000
DTEND;TZID=Africa/Johannesburg:20251025T163000
DTSTAMP:20260422T000223
CREATED:20251010T161626Z
LAST-MODIFIED:20251026T060418Z
UID:4735-1761402600-1761409800@amal.co.za
SUMMARY:AMAL Annual General Meeting (AGM) - 14:30
DESCRIPTION:ANNUAL GENERAL MEETING 2025 \nThe Association of Muslim Accountants and Lawyers (SA) \nNotice is hereby given for the 41st AGM of AMAL as per details hereunder: \nDate: 25th October 2025 (Saturday) \nTime: 14:30- Time Change of AGM \nVenue: AMAL Offices-Hybrid (link provided on RSVP) \nAgenda: \n1. Welcome \n2. Qiraath [Prayer] \n3. Confirmation of Quorum \n4. Approval of Minutes of Previous Annual General Meeting (2024) \n5. Secretary’s Report \n6. Chairman’s Report \n7. Treasurer’s Report \n8. Approval of Annual Financial Statements for 2025 \n9. Appointment of Auditors for 2026 \n10. Approval of Membership Fees for 2026 \n11. Election of Executive Committee members *see note below* \n12. General \n13. Closure/Dua \nN.B Nominations of Executive Committee Members must be made on the prescribed form attached. Nominations \nmust reach secretariat by no later than 17:00pm on the 23rd of October 2025. \nKind Regards \nImraan Subrathie \nExecutive Secretary of AMAL \n  \nCLICK HERE FOR THE NOMINATION FORM 
URL:https://amal.co.za/event/amal-annual-general-meeting-agm-1430/
LOCATION:AMAL Office\, Suite 4 GMH Centre 32 West Riding Row\, Sherwood\, Durban\, 4091\, South Africa
CATEGORIES:Past Events
ATTACH;FMTTYPE=image/png:https://amal.co.za/wp-content/uploads/2025/10/AMAL-AGM-25-OCTOBER-2025-at-1430.png
END:VEVENT
END:VCALENDAR